BEGIN:VCALENDAR
VERSION:2.0
PRODID:-//www.madisonsoilandwater.com//NONSGML kigkonsult.se iCalcreator 2.
 30.10//
CALSCALE:GREGORIAN
METHOD:PUBLISH
UID:2e5c8e14-9b3f-4d65-acc5-111b1f644ef4
X-WR-CALDESC:Anyone is welcomed and encouraged to address the Soil and Wate
 r Conservation District Board.  Topics or issues not arranged prior to mee
 tings will be limited to 5 minutes of discussion.
X-WR-RELCALID:da971cecc9326005ca088665df4febd9
X-WR-TIMEZONE:America/New_York
BEGIN:VTIMEZONE
TZID:America/New_York
BEGIN:STANDARD
TZNAME:EST
DTSTART:20301103T020000
TZOFFSETFROM:-0400
TZOFFSETTO:-0500
RDATE:20311102T020000
END:STANDARD
BEGIN:DAYLIGHT
TZNAME:EDT
DTSTART:20300310T020000
TZOFFSETFROM:-0500
TZOFFSETTO:-0400
RDATE:20310309T020000
RDATE:20320314T020000
END:DAYLIGHT
END:VTIMEZONE
BEGIN:VEVENT
UID:329bcff5-b9c6-4c7f-8944-bb15af9fe031
DTSTAMP:20260426T002002Z
DESCRIPTION:Anyone is welcomed and encouraged to address the Soil and Water
  Conservation District Board.  Topics or issues not arranged prior to meet
 ings will be limited to 5 minutes of discussion.
DTSTART;TZID=America/New_York:20310108T073000
DTEND;TZID=America/New_York:20310108T093000
LOCATION:825 US Highway 42 NE\, London\, OH 43140 US
SUMMARY:Board Meeting
END:VEVENT
END:VCALENDAR
