BEGIN:VCALENDAR
VERSION:2.0
PRODID:-//www.madisonsoilandwater.com//NONSGML kigkonsult.se iCalcreator 2.
 30.10//
CALSCALE:GREGORIAN
METHOD:PUBLISH
UID:45d494c8-1b83-4458-84de-40bc694004e4
X-WR-CALDESC:Anyone is welcomed and encouraged to address the Soil and Wate
 r Conservation District Board.  Topics or issues not arranged prior to mee
 tings will be limited to 5 minutes of discussion.
X-WR-RELCALID:f0eb263f8cdff347acdb4dad59f360dc
X-WR-TIMEZONE:America/New_York
BEGIN:VTIMEZONE
TZID:America/New_York
BEGIN:STANDARD
TZNAME:EST
DTSTART:20291104T020000
TZOFFSETFROM:-0400
TZOFFSETTO:-0500
RDATE:20301103T020000
RDATE:20311102T020000
END:STANDARD
BEGIN:DAYLIGHT
TZNAME:EDT
DTSTART:20300310T020000
TZOFFSETFROM:-0500
TZOFFSETTO:-0400
RDATE:20310309T020000
END:DAYLIGHT
END:VTIMEZONE
BEGIN:VEVENT
UID:feeab3de-caae-4502-ae9c-651d0990ea45
DTSTAMP:20260425T162025Z
DESCRIPTION:Anyone is welcomed and encouraged to address the Soil and Water
  Conservation District Board.  Topics or issues not arranged prior to meet
 ings will be limited to 5 minutes of discussion.
DTSTART;TZID=America/New_York:20300814T073000
DTEND;TZID=America/New_York:20300814T093000
LOCATION:825 US Highway 42 NE\, London\, OH 43140 US
SUMMARY:Board Meeting
END:VEVENT
END:VCALENDAR
