BEGIN:VCALENDAR
VERSION:2.0
PRODID:-//www.madisonsoilandwater.com//NONSGML kigkonsult.se iCalcreator 2.
 30.10//
CALSCALE:GREGORIAN
METHOD:PUBLISH
UID:4f73de53-3476-4ebc-9fc4-6374415f42db
X-WR-CALDESC:Anyone is welcomed and encouraged to address the Soil and Wate
 r Conservation District Board.  Topics or issues not arranged prior to mee
 tings will be limited to 5 minutes of discussion.
X-WR-RELCALID:78740b74055a1740e087b9cbb041b41d
X-WR-TIMEZONE:America/New_York
BEGIN:VTIMEZONE
TZID:America/New_York
BEGIN:STANDARD
TZNAME:EST
DTSTART:20281105T020000
TZOFFSETFROM:-0400
TZOFFSETTO:-0500
RDATE:20291104T020000
END:STANDARD
BEGIN:DAYLIGHT
TZNAME:EDT
DTSTART:20280312T020000
TZOFFSETFROM:-0500
TZOFFSETTO:-0400
RDATE:20290311T020000
RDATE:20300310T020000
END:DAYLIGHT
END:VTIMEZONE
BEGIN:VEVENT
UID:01c2edcf-5080-430c-9dbd-172ee847423d
DTSTAMP:20260424T080526Z
DESCRIPTION:Anyone is welcomed and encouraged to address the Soil and Water
  Conservation District Board.  Topics or issues not arranged prior to meet
 ings will be limited to 5 minutes of discussion.
DTSTART;TZID=America/New_York:20290110T073000
DTEND;TZID=America/New_York:20290110T093000
LOCATION:825 US Highway 42 NE\, London\, OH 43140 US
SUMMARY:Board Meeting
END:VEVENT
END:VCALENDAR
