BEGIN:VCALENDAR
VERSION:2.0
PRODID:-//www.madisonsoilandwater.com//NONSGML kigkonsult.se iCalcreator 2.
 30.10//
CALSCALE:GREGORIAN
METHOD:PUBLISH
UID:86742560-6a37-4cbc-9f5f-7bf1cddcfa83
X-WR-CALDESC:Anyone is welcomed and encouraged to address the Soil and Wate
 r Conservation District Board.  Topics or issues not arranged prior to mee
 tings will be limited to 5 minutes of discussion.
X-WR-RELCALID:c1b1ff321d46778ad27cb21bebe0c7cf
X-WR-TIMEZONE:America/New_York
BEGIN:VTIMEZONE
TZID:America/New_York
BEGIN:STANDARD
TZNAME:EST
DTSTART:20271107T020000
TZOFFSETFROM:-0400
TZOFFSETTO:-0500
RDATE:20281105T020000
RDATE:20291104T020000
END:STANDARD
BEGIN:DAYLIGHT
TZNAME:EDT
DTSTART:20280312T020000
TZOFFSETFROM:-0500
TZOFFSETTO:-0400
RDATE:20290311T020000
END:DAYLIGHT
END:VTIMEZONE
BEGIN:VEVENT
UID:889aad94-790c-4774-8dcb-814d1f5a9d62
DTSTAMP:20260423T220109Z
DESCRIPTION:Anyone is welcomed and encouraged to address the Soil and Water
  Conservation District Board.  Topics or issues not arranged prior to meet
 ings will be limited to 5 minutes of discussion.
DTSTART;TZID=America/New_York:20280712T073000
DTEND;TZID=America/New_York:20280712T093000
LOCATION:825 US Highway 42 NE\, London\, OH 43140 US
SUMMARY:Board Meeting
END:VEVENT
END:VCALENDAR
