BEGIN:VCALENDAR
VERSION:2.0
PRODID:-//www.madisonsoilandwater.com//NONSGML kigkonsult.se iCalcreator 2.
 30.10//
CALSCALE:GREGORIAN
METHOD:PUBLISH
UID:f360dfe3-4d1d-426a-968d-7f4ad27fee03
X-WR-CALDESC:Office Closed
X-WR-RELCALID:717092d89d5fa8728e8e746abd65bc8a
X-WR-TIMEZONE:America/New_York
BEGIN:VTIMEZONE
TZID:America/New_York
BEGIN:STANDARD
TZNAME:EST
DTSTART:20261101T020000
TZOFFSETFROM:-0400
TZOFFSETTO:-0500
RDATE:20271107T020000
END:STANDARD
BEGIN:DAYLIGHT
TZNAME:EDT
DTSTART:20260308T020000
TZOFFSETFROM:-0500
TZOFFSETTO:-0400
RDATE:20270314T020000
RDATE:20280312T020000
END:DAYLIGHT
END:VTIMEZONE
BEGIN:VEVENT
UID:ac0f14e4-2d57-45e8-86e5-99934aae5996
DTSTAMP:20260422T141501Z
DESCRIPTION:Office Closed
DTSTART;TZID=America/New_York:20261224T060000
DTEND;TZID=America/New_York:20261225T060001
LOCATION:
SUMMARY:Christmas Eve & Day
END:VEVENT
END:VCALENDAR
