BEGIN:VCALENDAR
VERSION:2.0
PRODID:-//www.madisonsoilandwater.com//NONSGML kigkonsult.se iCalcreator 2.
 30.10//
CALSCALE:GREGORIAN
METHOD:PUBLISH
UID:1239fc3f-d717-4541-9d59-0fb0c414c6ba
X-WR-CALDESC:Office Closed
X-WR-RELCALID:195f0dd857e8112ce280f725818f5a2d
X-WR-TIMEZONE:America/New_York
BEGIN:VTIMEZONE
TZID:America/New_York
BEGIN:STANDARD
TZNAME:EST
DTSTART:20261101T020000
TZOFFSETFROM:-0400
TZOFFSETTO:-0500
RDATE:20271107T020000
END:STANDARD
BEGIN:DAYLIGHT
TZNAME:EDT
DTSTART:20260308T020000
TZOFFSETFROM:-0500
TZOFFSETTO:-0400
RDATE:20270314T020000
RDATE:20280312T020000
END:DAYLIGHT
END:VTIMEZONE
BEGIN:VEVENT
UID:75eb0a18-af95-4b79-8442-86f0ac4200d8
DTSTAMP:20260422T123206Z
DESCRIPTION:Office Closed
DTSTART;TZID=America/New_York:20261126T060000
DTEND;TZID=America/New_York:20261127T060001
LOCATION:
SUMMARY:Thanksgiving
END:VEVENT
END:VCALENDAR
