BEGIN:VCALENDAR
VERSION:2.0
PRODID:-//www.madisonsoilandwater.com//NONSGML kigkonsult.se iCalcreator 2.
 30.10//
CALSCALE:GREGORIAN
METHOD:PUBLISH
UID:4d1683a9-bb6b-4b7b-b6aa-bfe386ddfa86
X-WR-CALDESC:Office closes at noon
X-WR-RELCALID:1ed8957fd5eace8ed9535bbac0b4b600
X-WR-TIMEZONE:America/New_York
BEGIN:VTIMEZONE
TZID:America/New_York
BEGIN:STANDARD
TZNAME:EST
DTSTART:20261101T020000
TZOFFSETFROM:-0400
TZOFFSETTO:-0500
RDATE:20271107T020000
END:STANDARD
BEGIN:DAYLIGHT
TZNAME:EDT
DTSTART:20260308T020000
TZOFFSETFROM:-0500
TZOFFSETTO:-0400
RDATE:20270314T020000
RDATE:20280312T020000
END:DAYLIGHT
END:VTIMEZONE
BEGIN:VEVENT
UID:13b50a3e-8367-4c8a-b85f-3e98492b417a
DTSTAMP:20260422T123715Z
DESCRIPTION:Office closes at noon
DTSTART;TZID=America/New_York:20261104T120000
DTEND;TZID=America/New_York:20261104T160000
LOCATION:
SUMMARY:Election Day  - Office Closes at Noon
END:VEVENT
END:VCALENDAR
