BEGIN:VCALENDAR
VERSION:2.0
PRODID:-//www.madisonsoilandwater.com//NONSGML kigkonsult.se iCalcreator 2.
 30.10//
CALSCALE:GREGORIAN
METHOD:PUBLISH
UID:b609547a-70a8-45de-9804-f95f62064f0c
X-WR-CALDESC:Office Closed
X-WR-RELCALID:7329754b75456f458338c75d70022562
X-WR-TIMEZONE:America/New_York
BEGIN:VTIMEZONE
TZID:America/New_York
BEGIN:STANDARD
TZNAME:EST
DTSTART:20251102T020000
TZOFFSETFROM:-0400
TZOFFSETTO:-0500
RDATE:20261101T020000
RDATE:20271107T020000
END:STANDARD
BEGIN:DAYLIGHT
TZNAME:EDT
DTSTART:20260308T020000
TZOFFSETFROM:-0500
TZOFFSETTO:-0400
RDATE:20270314T020000
RDATE:20280312T020000
END:DAYLIGHT
END:VTIMEZONE
BEGIN:VEVENT
UID:6c1b1b71-fe2b-4797-afa0-ff60ac831b52
DTSTAMP:20260422T110643Z
DESCRIPTION:Office Closed
DTSTART;TZID=America/New_York:20261012T060000
DTEND;TZID=America/New_York:20261012T060001
LOCATION:
SUMMARY:Columbus Day
END:VEVENT
END:VCALENDAR
