BEGIN:VCALENDAR
VERSION:2.0
PRODID:-//www.madisonsoilandwater.com//NONSGML kigkonsult.se iCalcreator 2.
 30.10//
CALSCALE:GREGORIAN
METHOD:PUBLISH
UID:cb029f2f-dcd4-4197-a553-899a4628230d
X-WR-CALDESC:Office Closed
X-WR-RELCALID:a97ef5197137f3c6866b8a694a906bbf
X-WR-TIMEZONE:America/New_York
BEGIN:VTIMEZONE
TZID:America/New_York
BEGIN:STANDARD
TZNAME:EST
DTSTART:20251102T020000
TZOFFSETFROM:-0400
TZOFFSETTO:-0500
RDATE:20261101T020000
RDATE:20271107T020000
END:STANDARD
BEGIN:DAYLIGHT
TZNAME:EDT
DTSTART:20260308T020000
TZOFFSETFROM:-0500
TZOFFSETTO:-0400
RDATE:20270314T020000
END:DAYLIGHT
END:VTIMEZONE
BEGIN:VEVENT
UID:0f724ad6-766e-44e9-9410-2c481234fb9e
DTSTAMP:20260422T105700Z
DESCRIPTION:Office Closed
DTSTART;TZID=America/New_York:20260907T060000
DTEND;TZID=America/New_York:20260907T060001
LOCATION:
SUMMARY:Labor Day
END:VEVENT
END:VCALENDAR
