BEGIN:VCALENDAR
VERSION:2.0
PRODID:-//www.madisonsoilandwater.com//NONSGML kigkonsult.se iCalcreator 2.
 30.10//
CALSCALE:GREGORIAN
METHOD:PUBLISH
UID:72f9cd86-7bbd-4414-8024-1f417050cff7
X-WR-CALDESC:Office Closed
X-WR-RELCALID:270eeffedca4887bd0aa7d4e78a30475
X-WR-TIMEZONE:America/New_York
BEGIN:VTIMEZONE
TZID:America/New_York
BEGIN:STANDARD
TZNAME:EST
DTSTART:20251102T020000
TZOFFSETFROM:-0400
TZOFFSETTO:-0500
RDATE:20261101T020000
END:STANDARD
BEGIN:DAYLIGHT
TZNAME:EDT
DTSTART:20250309T020000
TZOFFSETFROM:-0500
TZOFFSETTO:-0400
RDATE:20260308T020000
RDATE:20270314T020000
END:DAYLIGHT
END:VTIMEZONE
BEGIN:VEVENT
UID:e2fb0893-0448-4d31-803b-1165d485aef5
DTSTAMP:20260421T120553Z
DESCRIPTION:Office Closed
DTSTART;TZID=America/New_York:20251224T060000
DTEND;TZID=America/New_York:20251225T060001
LOCATION:
SUMMARY:Christmas Eve & Day
END:VEVENT
END:VCALENDAR
