BEGIN:VCALENDAR
VERSION:2.0
PRODID:-//www.madisonsoilandwater.com//NONSGML kigkonsult.se iCalcreator 2.
 30.10//
CALSCALE:GREGORIAN
METHOD:PUBLISH
UID:af06ad00-4270-4c19-992d-9a9626c4d5e5
X-WR-CALDESC:Office Closed
X-WR-RELCALID:768fe20365919bb35662900afbba44da
X-WR-TIMEZONE:America/New_York
BEGIN:VTIMEZONE
TZID:America/New_York
BEGIN:STANDARD
TZNAME:EST
DTSTART:20251102T020000
TZOFFSETFROM:-0400
TZOFFSETTO:-0500
RDATE:20261101T020000
END:STANDARD
BEGIN:DAYLIGHT
TZNAME:EDT
DTSTART:20250309T020000
TZOFFSETFROM:-0500
TZOFFSETTO:-0400
RDATE:20260308T020000
RDATE:20270314T020000
END:DAYLIGHT
END:VTIMEZONE
BEGIN:VEVENT
UID:902c26f4-787b-44e3-ba70-a19cdf201aa5
DTSTAMP:20260421T133142Z
DESCRIPTION:Office Closed
DTSTART;TZID=America/New_York:20251127T060000
DTEND;TZID=America/New_York:20251128T060001
LOCATION:
SUMMARY:Thanksgiving
END:VEVENT
END:VCALENDAR
