BEGIN:VCALENDAR
VERSION:2.0
PRODID:-//www.madisonsoilandwater.com//NONSGML kigkonsult.se iCalcreator 2.
 30.10//
CALSCALE:GREGORIAN
METHOD:PUBLISH
UID:e09e3086-697e-4c21-a378-f49f5a20590f
X-WR-CALDESC:Office closes at noon
X-WR-RELCALID:db26d5e3f3fd0f509f763c46e6250bda
X-WR-TIMEZONE:America/New_York
BEGIN:VTIMEZONE
TZID:America/New_York
BEGIN:STANDARD
TZNAME:EST
DTSTART:20251102T020000
TZOFFSETFROM:-0400
TZOFFSETTO:-0500
RDATE:20261101T020000
END:STANDARD
BEGIN:DAYLIGHT
TZNAME:EDT
DTSTART:20250309T020000
TZOFFSETFROM:-0500
TZOFFSETTO:-0400
RDATE:20260308T020000
RDATE:20270314T020000
END:DAYLIGHT
END:VTIMEZONE
BEGIN:VEVENT
UID:9b0a6437-fae7-463d-8332-a467d62bb02f
DTSTAMP:20260421T130422Z
DESCRIPTION:Office closes at noon
DTSTART;TZID=America/New_York:20251104T120000
DTEND;TZID=America/New_York:20251104T160000
LOCATION:
SUMMARY:Election Day  - Office Closes at Noon
END:VEVENT
END:VCALENDAR
