BEGIN:VCALENDAR
VERSION:2.0
PRODID:-//www.madisonsoilandwater.com//NONSGML kigkonsult.se iCalcreator 2.
 30.10//
CALSCALE:GREGORIAN
METHOD:PUBLISH
UID:d66d2560-3d7d-4d9d-a9c9-5164c8d39dbf
X-WR-CALDESC:Office Closed
X-WR-RELCALID:185a40f1348f2ca678e8ae0521c067c3
X-WR-TIMEZONE:America/New_York
BEGIN:VTIMEZONE
TZID:America/New_York
BEGIN:STANDARD
TZNAME:EST
DTSTART:20241103T020000
TZOFFSETFROM:-0400
TZOFFSETTO:-0500
RDATE:20251102T020000
RDATE:20261101T020000
END:STANDARD
BEGIN:DAYLIGHT
TZNAME:EDT
DTSTART:20250309T020000
TZOFFSETFROM:-0500
TZOFFSETTO:-0400
RDATE:20260308T020000
RDATE:20270314T020000
END:DAYLIGHT
END:VTIMEZONE
BEGIN:VEVENT
UID:c1c6e904-0459-49ba-ae2d-e2e3d59a8464
DTSTAMP:20260421T151801Z
DESCRIPTION:Office Closed
DTSTART;TZID=America/New_York:20251013T060000
DTEND;TZID=America/New_York:20251013T060001
LOCATION:
SUMMARY:Columbus Day
END:VEVENT
END:VCALENDAR
