BEGIN:VCALENDAR
VERSION:2.0
PRODID:-//www.madisonsoilandwater.com//NONSGML kigkonsult.se iCalcreator 2.
 30.10//
CALSCALE:GREGORIAN
METHOD:PUBLISH
UID:e294a481-7abe-48db-a1cd-091773980a15
X-WR-CALDESC:SWCD Monthly Board Meeting
X-WR-RELCALID:cfa3f01a4ffd13b8aa8d9caa2c816b81
X-WR-TIMEZONE:America/New_York
BEGIN:VTIMEZONE
TZID:America/New_York
BEGIN:STANDARD
TZNAME:EST
DTSTART:20241103T020000
TZOFFSETFROM:-0400
TZOFFSETTO:-0500
RDATE:20251102T020000
RDATE:20261101T020000
END:STANDARD
BEGIN:DAYLIGHT
TZNAME:EDT
DTSTART:20250309T020000
TZOFFSETFROM:-0500
TZOFFSETTO:-0400
RDATE:20260308T020000
RDATE:20270314T020000
END:DAYLIGHT
END:VTIMEZONE
BEGIN:VEVENT
UID:30d5b60a-2adf-4ac2-a26b-c048befa2c75
DTSTAMP:20260421T151214Z
DESCRIPTION:SWCD Monthly Board Meeting
DTSTART;TZID=America/New_York:20251008T073000
DTEND;TZID=America/New_York:20251008T093000
LOCATION:825 US Hwy 42 NE\, London\, OH 43140 US
SUMMARY:SWCD Board Meeting
END:VEVENT
END:VCALENDAR
