BEGIN:VCALENDAR
VERSION:2.0
PRODID:-//www.madisonsoilandwater.com//NONSGML kigkonsult.se iCalcreator 2.
 30.10//
CALSCALE:GREGORIAN
METHOD:PUBLISH
UID:a33e5a2e-09ba-4b25-964d-b3e6691a5c56
X-WR-CALDESC:Learn how to identify current invasive plants and insects and
 \nhow to control them in this hands on training from OSU\nExtension and Ma
 dison Soil and Water Conservation District\nemployees.\nOptional ID walkab
 out from 6-6:30 p.m.
X-WR-RELCALID:7bdcb2525c23fc1304c9166be1c60129
X-WR-TIMEZONE:America/New_York
BEGIN:VTIMEZONE
TZID:America/New_York
BEGIN:STANDARD
TZNAME:EST
DTSTART:20241103T020000
TZOFFSETFROM:-0400
TZOFFSETTO:-0500
RDATE:20251102T020000
RDATE:20261101T020000
END:STANDARD
BEGIN:DAYLIGHT
TZNAME:EDT
DTSTART:20250309T020000
TZOFFSETFROM:-0500
TZOFFSETTO:-0400
RDATE:20260308T020000
RDATE:20270314T020000
END:DAYLIGHT
END:VTIMEZONE
BEGIN:VEVENT
UID:6442c613-c40b-4df5-ae4c-8f0a91a50b5c
DTSTAMP:20260421T150452Z
DESCRIPTION:Learn how to identify current invasive plants and insects and\n
 how to control them in this hands on training from OSU\nExtension and Madi
 son Soil and Water Conservation District\nemployees.\nOptional ID walkabou
 t from 6-6:30 p.m.
DTSTART;TZID=America/New_York:20251002T170000
DTEND;TZID=America/New_York:20251002T183000
LOCATION:690 Arbuckle Rd NW \, London\, OH 43140 US
SUMMARY:Invasive Species Control
END:VEVENT
END:VCALENDAR
