BEGIN:VCALENDAR
VERSION:2.0
PRODID:-//www.madisonsoilandwater.com//NONSGML kigkonsult.se iCalcreator 2.
 30.10//
CALSCALE:GREGORIAN
METHOD:PUBLISH
UID:40f29e95-6fc8-47e2-85c1-89114f1e343b
X-WR-CALDESC:Food Trucks\, Vendors\, Activities and more! Come join the fun
 ! \n\nEvery Thurs. from July 10th - Oct 2nd\n5:00pm - 7:30pm
X-WR-RELCALID:59eaf3c03f469d35e74e382c3774dccc
X-WR-TIMEZONE:America/New_York
BEGIN:VTIMEZONE
TZID:America/New_York
BEGIN:STANDARD
TZNAME:EST
DTSTART:20241103T020000
TZOFFSETFROM:-0400
TZOFFSETTO:-0500
RDATE:20251102T020000
RDATE:20261101T020000
END:STANDARD
BEGIN:DAYLIGHT
TZNAME:EDT
DTSTART:20250309T020000
TZOFFSETFROM:-0500
TZOFFSETTO:-0400
RDATE:20260308T020000
RDATE:20270314T020000
END:DAYLIGHT
END:VTIMEZONE
BEGIN:VEVENT
UID:9518504c-dc23-404d-88cd-b27358692e0b
DTSTAMP:20260421T162559Z
DESCRIPTION:Food Trucks\, Vendors\, Activities and more! Come join the fun!
  \n\nEvery Thurs. from July 10th - Oct 2nd\n5:00pm - 7:30pm
DTSTART;TZID=America/New_York:20250925T170000
DTEND;TZID=America/New_York:20250925T193000
LOCATION:Bicentennial Park \, 101 S. Chillicothe St \, Plain City \, OH 430
 64 US
SUMMARY:Plain City Farmers Market
END:VEVENT
END:VCALENDAR
