BEGIN:VCALENDAR
VERSION:2.0
PRODID:-//www.madisonsoilandwater.com//NONSGML kigkonsult.se iCalcreator 2.
 30.10//
CALSCALE:GREGORIAN
METHOD:PUBLISH
UID:b29726ca-2c67-4ab3-8896-96ccda1c0100
X-WR-CALDESC:See live field demos\, exhibitors and educational programs\, s
 ponsored by the Ohio State University.
X-WR-RELCALID:10ccd3f5cc99b0ec33e2e1ebd317fc14
X-WR-TIMEZONE:America/New_York
BEGIN:VTIMEZONE
TZID:America/New_York
BEGIN:STANDARD
TZNAME:EST
DTSTART:20241103T020000
TZOFFSETFROM:-0400
TZOFFSETTO:-0500
RDATE:20251102T020000
RDATE:20261101T020000
END:STANDARD
BEGIN:DAYLIGHT
TZNAME:EDT
DTSTART:20250309T020000
TZOFFSETFROM:-0500
TZOFFSETTO:-0400
RDATE:20260308T020000
RDATE:20270314T020000
END:DAYLIGHT
END:VTIMEZONE
BEGIN:VEVENT
UID:304ce2a8-746f-4c9e-9d6f-15049688c149
DTSTAMP:20260421T162646Z
DESCRIPTION:See live field demos\, exhibitors and educational programs\, sp
 onsored by the Ohio State University.
DTSTART;TZID=America/New_York:20250916T060000
DTEND;TZID=America/New_York:20250918T060001
LOCATION:Molly Caren Agriculture Center \, 135 State Route 38 NE \, London 
 \, OH 43140 US
SUMMARY:Farm Science Review
END:VEVENT
END:VCALENDAR
