BEGIN:VCALENDAR
VERSION:2.0
PRODID:-//www.madisonsoilandwater.com//NONSGML kigkonsult.se iCalcreator 2.
 30.10//
CALSCALE:GREGORIAN
METHOD:PUBLISH
UID:a7484b57-68a8-446e-af8e-790618f65ca0
X-WR-CALDESC:Agenda\n\nCast your vote from 5:30 p.m. – 6:30 p.m.\nConservat
 ion Awards Banquet begins at 6:00 p.m.\nFeatured speaker at 7:00 p.m.\n\nT
 he menu includes BBQ pork and chicken along with baked beans\, potato sala
 d\, coleslaw\, buns and dessert.\n\nRegister to purchase your banquet tick
 ets for $20 for adults or $15 for children under 10 by Tuesday\, September
  2nd.
X-WR-RELCALID:5bd95c35ae1cf6871f55f50ca3f2b187
X-WR-TIMEZONE:America/New_York
BEGIN:VTIMEZONE
TZID:America/New_York
BEGIN:STANDARD
TZNAME:EST
DTSTART:20241103T020000
TZOFFSETFROM:-0400
TZOFFSETTO:-0500
RDATE:20251102T020000
RDATE:20261101T020000
END:STANDARD
BEGIN:DAYLIGHT
TZNAME:EDT
DTSTART:20250309T020000
TZOFFSETFROM:-0500
TZOFFSETTO:-0400
RDATE:20260308T020000
END:DAYLIGHT
END:VTIMEZONE
BEGIN:VEVENT
UID:603bbc4c-152c-4720-8a33-087a153efc4a
DTSTAMP:20260421T162035Z
DESCRIPTION:Agenda\n\nCast your vote from 5:30 p.m. – 6:30 p.m.\nConservati
 on Awards Banquet begins at 6:00 p.m.\nFeatured speaker at 7:00 p.m.\n\nTh
 e menu includes BBQ pork and chicken along with baked beans\, potato salad
 \, coleslaw\, buns and dessert.\n\nRegister to purchase your banquet ticke
 ts for $20 for adults or $15 for children under 10 by Tuesday\, September 
 2nd.
DTSTART;TZID=America/New_York:20250911T173000
DTEND;TZID=America/New_York:20250911T193000
LOCATION:Procter Camp and Conference Center \, 11235 OH-38\, London \, OH 4
 3140 US
SUMMARY:Annual Conservation Banquet
END:VEVENT
END:VCALENDAR
