BEGIN:VCALENDAR
VERSION:2.0
PRODID:-//www.madisonsoilandwater.com//NONSGML kigkonsult.se iCalcreator 2.
 30.10//
CALSCALE:GREGORIAN
METHOD:PUBLISH
UID:60737eb4-e367-4d4f-b952-40d203b1c5ba
X-WR-CALDESC:SWCD Monthly Board Meeting
X-WR-RELCALID:58d131fadd9f62df47d082626a9effad
X-WR-TIMEZONE:America/New_York
BEGIN:VTIMEZONE
TZID:America/New_York
BEGIN:STANDARD
TZNAME:EST
DTSTART:20241103T020000
TZOFFSETFROM:-0400
TZOFFSETTO:-0500
RDATE:20251102T020000
RDATE:20261101T020000
END:STANDARD
BEGIN:DAYLIGHT
TZNAME:EDT
DTSTART:20250309T020000
TZOFFSETFROM:-0500
TZOFFSETTO:-0400
RDATE:20260308T020000
END:DAYLIGHT
END:VTIMEZONE
BEGIN:VEVENT
UID:2bf998ac-fce3-4382-a610-ae6a5659fc72
DTSTAMP:20260421T162559Z
DESCRIPTION:SWCD Monthly Board Meeting
DTSTART;TZID=America/New_York:20250910T073000
DTEND;TZID=America/New_York:20250910T093000
LOCATION:825 US Hwy 42 NE\, London\, OH 43140 US
SUMMARY:SWCD Board Meeting
END:VEVENT
END:VCALENDAR
