BEGIN:VCALENDAR
VERSION:2.0
PRODID:-//www.madisonsoilandwater.com//NONSGML kigkonsult.se iCalcreator 2.
 30.10//
CALSCALE:GREGORIAN
METHOD:PUBLISH
UID:73edf47e-ca05-4b4d-867d-2dea23b772b3
X-WR-CALDESC:Office Closed
X-WR-RELCALID:0e88e9bd19c774f6fee6efe54697195d
X-WR-TIMEZONE:America/New_York
BEGIN:VTIMEZONE
TZID:America/New_York
BEGIN:STANDARD
TZNAME:EST
DTSTART:20241103T020000
TZOFFSETFROM:-0400
TZOFFSETTO:-0500
RDATE:20251102T020000
RDATE:20261101T020000
END:STANDARD
BEGIN:DAYLIGHT
TZNAME:EDT
DTSTART:20250309T020000
TZOFFSETFROM:-0500
TZOFFSETTO:-0400
RDATE:20260308T020000
END:DAYLIGHT
END:VTIMEZONE
BEGIN:VEVENT
UID:eb80ac0b-f113-4004-997a-7271358f726f
DTSTAMP:20260421T162940Z
DESCRIPTION:Office Closed
DTSTART;TZID=America/New_York:20250901T060000
DTEND;TZID=America/New_York:20250901T060001
LOCATION:
SUMMARY:Labor Day
END:VEVENT
END:VCALENDAR
