BEGIN:VCALENDAR
VERSION:2.0
PRODID:-//www.madisonsoilandwater.com//NONSGML kigkonsult.se iCalcreator 2.
 30.10//
CALSCALE:GREGORIAN
METHOD:PUBLISH
UID:f5e70726-bc96-4cb4-b4cd-e8a0dfa0b8ff
X-WR-CALDESC:A tour of the Little Darby Prairie Preserve with discussion ab
 out conservation techniques practiced on site\, as well as native vegetati
 on and wildlife.
X-WR-RELCALID:c7ffc7186c8629be8f360f6b7e068985
X-WR-TIMEZONE:America/New_York
BEGIN:VTIMEZONE
TZID:America/New_York
BEGIN:STANDARD
TZNAME:EST
DTSTART:20241103T020000
TZOFFSETFROM:-0400
TZOFFSETTO:-0500
RDATE:20251102T020000
RDATE:20261101T020000
END:STANDARD
BEGIN:DAYLIGHT
TZNAME:EDT
DTSTART:20250309T020000
TZOFFSETFROM:-0500
TZOFFSETTO:-0400
RDATE:20260308T020000
END:DAYLIGHT
END:VTIMEZONE
BEGIN:VEVENT
UID:14b6a850-265d-44c6-83ca-d77926e44e12
DTSTAMP:20260421T181518Z
DESCRIPTION:A tour of the Little Darby Prairie Preserve with discussion abo
 ut conservation techniques practiced on site\, as well as native vegetatio
 n and wildlife.
DTSTART;TZID=America/New_York:20250823T100000
DTEND;TZID=America/New_York:20250823T120000
LOCATION:5995 Lafayette Plain City Rd.\, London\, OH 43140 US
SUMMARY:Conservation Hike at the Little Darby Prairie Preserve
END:VEVENT
END:VCALENDAR
