BEGIN:VCALENDAR
VERSION:2.0
PRODID:-//www.madisonsoilandwater.com//NONSGML kigkonsult.se iCalcreator 2.
 30.10//
CALSCALE:GREGORIAN
METHOD:PUBLISH
UID:be755083-98b8-478c-b8cd-434e130747be
X-WR-CALDESC:This workshop will go over tips for maintaining a raingarden. 
  Rain gardens are a great option to manage water issues on your property. 
  The Madison County Master Gardener Volunteers and SWCD staff will be on s
 ite from 10:00 a.m. - 11:30 a.m. to answer questions about insects\, plant
  disease\, and how to manage overgrowth.  If you do not have a rain garden
  yet\, this workshop could help you save you time and money as we can prov
 ide installation tips and some of the do's and don'ts.  You could also tak
 e home a free rain barrel! (Fitting must be purchased separately).  In hon
 or of National Honey Bee Day\, we will have honey tasting and honey-bee re
 lated activities for children\, so feel free to bring the family!
X-WR-RELCALID:cc2378477d781eb91160f59b532371a7
X-WR-TIMEZONE:America/New_York
BEGIN:VTIMEZONE
TZID:America/New_York
BEGIN:STANDARD
TZNAME:EST
DTSTART:20241103T020000
TZOFFSETFROM:-0400
TZOFFSETTO:-0500
RDATE:20251102T020000
RDATE:20261101T020000
END:STANDARD
BEGIN:DAYLIGHT
TZNAME:EDT
DTSTART:20250309T020000
TZOFFSETFROM:-0500
TZOFFSETTO:-0400
RDATE:20260308T020000
END:DAYLIGHT
END:VTIMEZONE
BEGIN:VEVENT
UID:ec38a329-8bed-4b9f-b572-339ab9e3a3b6
DTSTAMP:20260421T181222Z
DESCRIPTION:This workshop will go over tips for maintaining a raingarden.  
 Rain gardens are a great option to manage water issues on your property.  
 The Madison County Master Gardener Volunteers and SWCD staff will be on si
 te from 10:00 a.m. - 11:30 a.m. to answer questions about insects\, plant 
 disease\, and how to manage overgrowth.  If you do not have a rain garden 
 yet\, this workshop could help you save you time and money as we can provi
 de installation tips and some of the do's and don'ts.  You could also take
  home a free rain barrel! (Fitting must be purchased separately).  In hono
 r of National Honey Bee Day\, we will have honey tasting and honey-bee rel
 ated activities for children\, so feel free to bring the family!
DTSTART;TZID=America/New_York:20250816T100000
DTEND;TZID=America/New_York:20250816T113000
LOCATION:262 W High St\, London\, OH 43140 US
SUMMARY:Rain Garden Workshop
END:VEVENT
END:VCALENDAR
