BEGIN:VCALENDAR
VERSION:2.0
PRODID:-//www.madisonsoilandwater.com//NONSGML kigkonsult.se iCalcreator 2.
 30.10//
CALSCALE:GREGORIAN
METHOD:PUBLISH
UID:a6b7100c-9f62-41fb-b1fa-df80150d7d70
X-WR-CALDESC:SWCD Monthly Board Meeting
X-WR-RELCALID:cfbe497ee2c06abdda233e804fe41974
X-WR-TIMEZONE:America/New_York
BEGIN:VTIMEZONE
TZID:America/New_York
BEGIN:STANDARD
TZNAME:EST
DTSTART:20241103T020000
TZOFFSETFROM:-0400
TZOFFSETTO:-0500
RDATE:20251102T020000
RDATE:20261101T020000
END:STANDARD
BEGIN:DAYLIGHT
TZNAME:EDT
DTSTART:20250309T020000
TZOFFSETFROM:-0500
TZOFFSETTO:-0400
RDATE:20260308T020000
END:DAYLIGHT
END:VTIMEZONE
BEGIN:VEVENT
UID:d3849927-f806-4597-92b6-cbe0b8dc52a7
DTSTAMP:20260421T175552Z
DESCRIPTION:SWCD Monthly Board Meeting
DTSTART;TZID=America/New_York:20250813T073000
DTEND;TZID=America/New_York:20250813T093000
LOCATION:825 US Hwy 42 NE\, London\, OH 43140 US
SUMMARY:SWCD Board Meeting
END:VEVENT
END:VCALENDAR
