BEGIN:VCALENDAR
VERSION:2.0
PRODID:-//www.madisonsoilandwater.com//NONSGML kigkonsult.se iCalcreator 2.
 30.10//
CALSCALE:GREGORIAN
METHOD:PUBLISH
UID:5d3d4362-4daf-4aae-9a7b-652de4fe4859
X-WR-CALDESC:Food trucks\, vendors and other activities! Come join the fun!
  \n\nEvery Thurs. from July 10th - Oct 2nd\n5:00pm - 7:30pm
X-WR-RELCALID:25d7dcb2f109832bb57ddd4f99ff0322
X-WR-TIMEZONE:America/New_York
BEGIN:VTIMEZONE
TZID:America/New_York
BEGIN:STANDARD
TZNAME:EST
DTSTART:20241103T020000
TZOFFSETFROM:-0400
TZOFFSETTO:-0500
RDATE:20251102T020000
RDATE:20261101T020000
END:STANDARD
BEGIN:DAYLIGHT
TZNAME:EDT
DTSTART:20250309T020000
TZOFFSETFROM:-0500
TZOFFSETTO:-0400
RDATE:20260308T020000
END:DAYLIGHT
END:VTIMEZONE
BEGIN:VEVENT
UID:2b38f421-108e-4374-9433-b6cd9ace7013
DTSTAMP:20260421T195205Z
DESCRIPTION:Food trucks\, vendors and other activities! Come join the fun! 
 \n\nEvery Thurs. from July 10th - Oct 2nd\n5:00pm - 7:30pm
DTSTART;TZID=America/New_York:20250724T170000
DTEND;TZID=America/New_York:20250724T193000
LOCATION:Bicentennial Park \, 101 S. Chillicothe St\, Plain City \, OH 4306
 4 US
SUMMARY:Plain City Farmers Market
END:VEVENT
END:VCALENDAR
