BEGIN:VCALENDAR
VERSION:2.0
PRODID:-//www.madisonsoilandwater.com//NONSGML kigkonsult.se iCalcreator 2.
 30.10//
CALSCALE:GREGORIAN
METHOD:PUBLISH
UID:f20b77f7-e4e2-49c8-b1ce-45ecfd6a058c
X-WR-CALDESC:Bicyclists can enjoy the beauty of plants such as Prairie Dock
 \, Butterfly Weed\, Royal Catchfly\, and Prairie Coneflower\; and tall gra
 sses\, such as Big Bluestem and Indiangrass. Your tour begins at the rain 
 garden at the Prairie Grass Trailhead in London\, OH. Madison SWCD staff a
 nd other guest speakers will introduce prairies and describe some of the p
 lants to be found along the trail.  This is an 11-mile ride\, out and back
 \, at a leisurely pace.  The ride is named in honor of Jack McDowell\, for
 mer SWCD supervisor\, who started the annual ride in 2005.
X-WR-RELCALID:c9bd88771253c28bd3c88ce9672a2b27
X-WR-TIMEZONE:America/New_York
BEGIN:VTIMEZONE
TZID:America/New_York
BEGIN:STANDARD
TZNAME:EST
DTSTART:20241103T020000
TZOFFSETFROM:-0400
TZOFFSETTO:-0500
RDATE:20251102T020000
RDATE:20261101T020000
END:STANDARD
BEGIN:DAYLIGHT
TZNAME:EDT
DTSTART:20250309T020000
TZOFFSETFROM:-0500
TZOFFSETTO:-0400
RDATE:20260308T020000
END:DAYLIGHT
END:VTIMEZONE
BEGIN:VEVENT
UID:ab9bf56b-b572-4245-9b02-641a67a8235a
DTSTAMP:20260421T194820Z
DESCRIPTION:Bicyclists can enjoy the beauty of plants such as Prairie Dock\
 , Butterfly Weed\, Royal Catchfly\, and Prairie Coneflower\; and tall gras
 ses\, such as Big Bluestem and Indiangrass. Your tour begins at the rain g
 arden at the Prairie Grass Trailhead in London\, OH. Madison SWCD staff an
 d other guest speakers will introduce prairies and describe some of the pl
 ants to be found along the trail.  This is an 11-mile ride\, out and back\
 , at a leisurely pace.  The ride is named in honor of Jack McDowell\, form
 er SWCD supervisor\, who started the annual ride in 2005.
DTSTART;TZID=America/New_York:20250712T090000
DTEND;TZID=America/New_York:20250712T110000
LOCATION:Prairie Grass Trailhead\, 262 W. High St.\, London\, OH 43140 US
SUMMARY:Jack McDowell's Prairie Appreciation Ride
END:VEVENT
END:VCALENDAR
