BEGIN:VCALENDAR
VERSION:2.0
PRODID:-//www.madisonsoilandwater.com//NONSGML kigkonsult.se iCalcreator 2.
 30.10//
CALSCALE:GREGORIAN
METHOD:PUBLISH
UID:ea9d0827-d129-4bb5-97a0-d459ee1bdc8c
X-WR-CALDESC:
X-WR-RELCALID:ed6d983017d261c5d17dc1ee662e8be1
X-WR-TIMEZONE:America/New_York
BEGIN:VTIMEZONE
TZID:America/New_York
BEGIN:STANDARD
TZNAME:EST
DTSTART:20241103T020000
TZOFFSETFROM:-0400
TZOFFSETTO:-0500
RDATE:20251102T020000
RDATE:20261101T020000
END:STANDARD
BEGIN:DAYLIGHT
TZNAME:EDT
DTSTART:20250309T020000
TZOFFSETFROM:-0500
TZOFFSETTO:-0400
RDATE:20260308T020000
END:DAYLIGHT
END:VTIMEZONE
BEGIN:VEVENT
UID:7e6bc232-566b-48fb-a47a-36bb28bdefdb
DTSTAMP:20260421T194829Z
DESCRIPTION:
DTSTART;TZID=America/New_York:20250705T060000
DTEND;TZID=America/New_York:20250712T060001
LOCATION:Madison County Fairgrounds \, 205 Elm Street\, London\, OH 43140 U
 S
SUMMARY:Madison County Fair
END:VEVENT
END:VCALENDAR
