BEGIN:VCALENDAR
VERSION:2.0
PRODID:-//www.madisonsoilandwater.com//NONSGML kigkonsult.se iCalcreator 2.
 30.10//
CALSCALE:GREGORIAN
METHOD:PUBLISH
UID:bffdb038-51d7-475d-9318-5db5f3d86e7f
X-WR-CALDESC:Office Closed
X-WR-RELCALID:9964c813ad9a9c6f814b9076cecf773b
X-WR-TIMEZONE:America/New_York
BEGIN:VTIMEZONE
TZID:America/New_York
BEGIN:STANDARD
TZNAME:EST
DTSTART:20241103T020000
TZOFFSETFROM:-0400
TZOFFSETTO:-0500
RDATE:20251102T020000
RDATE:20261101T020000
END:STANDARD
BEGIN:DAYLIGHT
TZNAME:EDT
DTSTART:20250309T020000
TZOFFSETFROM:-0500
TZOFFSETTO:-0400
RDATE:20260308T020000
END:DAYLIGHT
END:VTIMEZONE
BEGIN:VEVENT
UID:25b5372d-929a-40e4-ab81-341398cbb8f6
DTSTAMP:20260421T195316Z
DESCRIPTION:Office Closed
DTSTART;TZID=America/New_York:20250704T060000
DTEND;TZID=America/New_York:20250704T060001
LOCATION:
SUMMARY:Independence Day
END:VEVENT
END:VCALENDAR
