BEGIN:VCALENDAR
VERSION:2.0
PRODID:-//www.madisonsoilandwater.com//NONSGML kigkonsult.se iCalcreator 2.
 30.10//
CALSCALE:GREGORIAN
METHOD:PUBLISH
UID:e605a65d-5e62-407f-8157-64d050971988
X-WR-CALDESC:Office Closed
X-WR-RELCALID:1b1c409d110fdaabccbaba1febd9ad5d
X-WR-TIMEZONE:America/New_York
BEGIN:VTIMEZONE
TZID:America/New_York
BEGIN:STANDARD
TZNAME:EST
DTSTART:20241103T020000
TZOFFSETFROM:-0400
TZOFFSETTO:-0500
RDATE:20251102T020000
RDATE:20261101T020000
END:STANDARD
BEGIN:DAYLIGHT
TZNAME:EDT
DTSTART:20250309T020000
TZOFFSETFROM:-0500
TZOFFSETTO:-0400
RDATE:20260308T020000
END:DAYLIGHT
END:VTIMEZONE
BEGIN:VEVENT
UID:a2bf428b-7412-4c56-9f87-3fc466f92417
DTSTAMP:20260421T212427Z
DESCRIPTION:Office Closed
DTSTART;TZID=America/New_York:20250619T060000
DTEND;TZID=America/New_York:20250619T060001
LOCATION:
SUMMARY:Juneteenth
END:VEVENT
END:VCALENDAR
