BEGIN:VCALENDAR
VERSION:2.0
PRODID:-//www.madisonsoilandwater.com//NONSGML kigkonsult.se iCalcreator 2.
 30.10//
CALSCALE:GREGORIAN
METHOD:PUBLISH
UID:1487ccf7-2643-4819-acd8-791af143e384
X-WR-CALDESC:Interact with farmers while enjoying a day at Pastime Park! We
  are celebrating Ohio agriculture\, so come out and visit with farmers and
  enjoy fun agriculture activities. Butter making\, photo opts\, goodie bag
 s and much more! Free ice cream for the first 300 guests!
X-WR-RELCALID:758d3260ef6c3ddc6bfbc2a9902e21a3
X-WR-TIMEZONE:America/New_York
BEGIN:VTIMEZONE
TZID:America/New_York
BEGIN:STANDARD
TZNAME:EST
DTSTART:20241103T020000
TZOFFSETFROM:-0400
TZOFFSETTO:-0500
RDATE:20251102T020000
RDATE:20261101T020000
END:STANDARD
BEGIN:DAYLIGHT
TZNAME:EDT
DTSTART:20250309T020000
TZOFFSETFROM:-0500
TZOFFSETTO:-0400
RDATE:20260308T020000
END:DAYLIGHT
END:VTIMEZONE
BEGIN:VEVENT
UID:35241c67-ab18-4f1f-89cb-a2109e0b7428
DTSTAMP:20260421T212555Z
DESCRIPTION:Interact with farmers while enjoying a day at Pastime Park! We 
 are celebrating Ohio agriculture\, so come out and visit with farmers and 
 enjoy fun agriculture activities. Butter making\, photo opts\, goodie bags
  and much more! Free ice cream for the first 300 guests!
DTSTART;TZID=America/New_York:20250614T140000
DTEND;TZID=America/New_York:20250614T160000
LOCATION:Past Time Park and Campground\, 344 N Chillicothe St\, Plain City 
 \, OH 43064 US
SUMMARY:Ice Cream with a Farmer
END:VEVENT
END:VCALENDAR
