BEGIN:VCALENDAR
VERSION:2.0
PRODID:-//www.madisonsoilandwater.com//NONSGML kigkonsult.se iCalcreator 2.
 30.10//
CALSCALE:GREGORIAN
METHOD:PUBLISH
UID:9bbb2252-a4bc-4a36-bd1f-9b9baf47abf4
X-WR-CALDESC:SWCD Monthly Board Meeting
X-WR-RELCALID:400033001906bf7add6b1552e90d9641
X-WR-TIMEZONE:America/New_York
BEGIN:VTIMEZONE
TZID:America/New_York
BEGIN:STANDARD
TZNAME:EST
DTSTART:20241103T020000
TZOFFSETFROM:-0400
TZOFFSETTO:-0500
RDATE:20251102T020000
RDATE:20261101T020000
END:STANDARD
BEGIN:DAYLIGHT
TZNAME:EDT
DTSTART:20250309T020000
TZOFFSETFROM:-0500
TZOFFSETTO:-0400
RDATE:20260308T020000
END:DAYLIGHT
END:VTIMEZONE
BEGIN:VEVENT
UID:4e5d0765-5065-479f-98f2-58d288a7cdbb
DTSTAMP:20260421T213013Z
DESCRIPTION:SWCD Monthly Board Meeting
DTSTART;TZID=America/New_York:20250611T073000
DTEND;TZID=America/New_York:20250611T093000
LOCATION:825 US Hwy 42 NE\, London\, OH 43140 US
SUMMARY:SWCD Board Meeting
END:VEVENT
END:VCALENDAR
