BEGIN:VCALENDAR
VERSION:2.0
PRODID:-//www.madisonsoilandwater.com//NONSGML kigkonsult.se iCalcreator 2.
 30.10//
CALSCALE:GREGORIAN
METHOD:PUBLISH
UID:068c7a0c-72b7-4cc1-be5b-0143500d2c39
X-WR-CALDESC:Office Closed
X-WR-RELCALID:57eaf39d7be0a779d723018d3234ef6c
X-WR-TIMEZONE:America/New_York
BEGIN:VTIMEZONE
TZID:America/New_York
BEGIN:STANDARD
TZNAME:EST
DTSTART:20241103T020000
TZOFFSETFROM:-0400
TZOFFSETTO:-0500
RDATE:20251102T020000
RDATE:20261101T020000
END:STANDARD
BEGIN:DAYLIGHT
TZNAME:EDT
DTSTART:20250309T020000
TZOFFSETFROM:-0500
TZOFFSETTO:-0400
RDATE:20260308T020000
END:DAYLIGHT
END:VTIMEZONE
BEGIN:VEVENT
UID:8f2cbd52-be08-4abb-83aa-e2ad4ed76d5d
DTSTAMP:20260421T225150Z
DESCRIPTION:Office Closed
DTSTART;TZID=America/New_York:20250526T060000
DTEND;TZID=America/New_York:20250526T060001
LOCATION:
SUMMARY:Memorial Day
END:VEVENT
END:VCALENDAR
