BEGIN:VCALENDAR
VERSION:2.0
PRODID:-//www.madisonsoilandwater.com//NONSGML kigkonsult.se iCalcreator 2.
 30.10//
CALSCALE:GREGORIAN
METHOD:PUBLISH
UID:e43438f6-d518-4d32-86eb-07aeadac7fcc
X-WR-CALDESC:SWCD Monthly Board Meeting
X-WR-RELCALID:7a3da8080f92569e952a50a769546385
X-WR-TIMEZONE:America/New_York
BEGIN:VTIMEZONE
TZID:America/New_York
BEGIN:STANDARD
TZNAME:EST
DTSTART:20241103T020000
TZOFFSETFROM:-0400
TZOFFSETTO:-0500
RDATE:20251102T020000
RDATE:20261101T020000
END:STANDARD
BEGIN:DAYLIGHT
TZNAME:EDT
DTSTART:20250309T020000
TZOFFSETFROM:-0500
TZOFFSETTO:-0400
RDATE:20260308T020000
END:DAYLIGHT
END:VTIMEZONE
BEGIN:VEVENT
UID:8002c4a5-c5cc-4a10-9dac-940386526d67
DTSTAMP:20260421T231052Z
DESCRIPTION:SWCD Monthly Board Meeting
DTSTART;TZID=America/New_York:20250514T073000
DTEND;TZID=America/New_York:20250514T093000
LOCATION:825 US Hwy 42 NE\, London\, OH 43140 US
SUMMARY:SWCD Board Meeting
END:VEVENT
END:VCALENDAR
