BEGIN:VCALENDAR
VERSION:2.0
PRODID:-//www.madisonsoilandwater.com//NONSGML kigkonsult.se iCalcreator 2.
 30.10//
CALSCALE:GREGORIAN
METHOD:PUBLISH
UID:b940b310-5cac-456d-ab5f-e480e17d61cf
X-WR-CALDESC:An Outdoor\, Academic\, Environmental Competition for High Sch
 ool Students.  Contact Broc to see how teams from your High School can com
 pete.
X-WR-RELCALID:72982a146738f2f33655637661c69d13
X-WR-TIMEZONE:America/New_York
BEGIN:VTIMEZONE
TZID:America/New_York
BEGIN:STANDARD
TZNAME:EST
DTSTART:20241103T020000
TZOFFSETFROM:-0400
TZOFFSETTO:-0500
RDATE:20251102T020000
END:STANDARD
BEGIN:DAYLIGHT
TZNAME:EDT
DTSTART:20250309T020000
TZOFFSETFROM:-0500
TZOFFSETTO:-0400
RDATE:20260308T020000
END:DAYLIGHT
END:VTIMEZONE
BEGIN:VEVENT
UID:929ad7bb-c12f-4c0a-812f-649c2df02522
DTSTAMP:20260422T005032Z
DESCRIPTION:An Outdoor\, Academic\, Environmental Competition for High Scho
 ol Students.  Contact Broc to see how teams from your High School can comp
 ete.
DTSTART;TZID=America/New_York:20250429T060000
DTEND;TZID=America/New_York:20250429T060001
LOCATION:Milford Creek (Miami County)
SUMMARY:Area IV Envirothon
END:VEVENT
END:VCALENDAR
