BEGIN:VCALENDAR
VERSION:2.0
PRODID:-//www.madisonsoilandwater.com//NONSGML kigkonsult.se iCalcreator 2.
 30.10//
CALSCALE:GREGORIAN
METHOD:PUBLISH
UID:3e7c0728-58a4-442f-a8d6-3445ef807034
X-WR-CALDESC:SWCD Monthly Board Meeting
X-WR-RELCALID:4e48ffea427d0386d43a73bb577657f6
X-WR-TIMEZONE:America/New_York
BEGIN:VTIMEZONE
TZID:America/New_York
BEGIN:STANDARD
TZNAME:EST
DTSTART:20241103T020000
TZOFFSETFROM:-0400
TZOFFSETTO:-0500
RDATE:20251102T020000
END:STANDARD
BEGIN:DAYLIGHT
TZNAME:EDT
DTSTART:20250309T020000
TZOFFSETFROM:-0500
TZOFFSETTO:-0400
RDATE:20260308T020000
END:DAYLIGHT
END:VTIMEZONE
BEGIN:VEVENT
UID:25d4dc5e-0e7b-408b-b09e-8d47094d838c
DTSTAMP:20260422T005544Z
DESCRIPTION:SWCD Monthly Board Meeting
DTSTART;TZID=America/New_York:20250409T073000
DTEND;TZID=America/New_York:20250409T093000
LOCATION:825 US Hwy 42 NE\, London\, OH 43140 US
SUMMARY:SWCD Board Meeting
END:VEVENT
END:VCALENDAR
