BEGIN:VCALENDAR
VERSION:2.0
PRODID:-//www.madisonsoilandwater.com//NONSGML kigkonsult.se iCalcreator 2.
 30.10//
CALSCALE:GREGORIAN
METHOD:PUBLISH
UID:ca324bbb-ea52-453c-8ad8-6e279617e7ce
X-WR-CALDESC:
X-WR-RELCALID:0026fb0a4b0b094a47fef7ce63569e46
X-WR-TIMEZONE:America/New_York
BEGIN:VTIMEZONE
TZID:America/New_York
BEGIN:STANDARD
TZNAME:EST
DTSTART:20241103T020000
TZOFFSETFROM:-0400
TZOFFSETTO:-0500
RDATE:20251102T020000
END:STANDARD
BEGIN:DAYLIGHT
TZNAME:EDT
DTSTART:20250309T020000
TZOFFSETFROM:-0500
TZOFFSETTO:-0400
RDATE:20260308T020000
END:DAYLIGHT
END:VTIMEZONE
BEGIN:VEVENT
UID:5a72a249-08a3-4dde-8497-b9284b885ef1
DTSTAMP:20260422T021645Z
DESCRIPTION:
DTSTART;TZID=America/New_York:20250319T093000
DTEND;TZID=America/New_York:20250319T113000
LOCATION:825 US Highway 42 NE\, London\, OH 43140 US
SUMMARY:Local Work Group / Annual Planning Meeting
END:VEVENT
END:VCALENDAR
