BEGIN:VCALENDAR
VERSION:2.0
PRODID:-//www.madisonsoilandwater.com//NONSGML kigkonsult.se iCalcreator 2.
 30.10//
CALSCALE:GREGORIAN
METHOD:PUBLISH
UID:7328c1a2-ddf6-4123-b177-4bcb7fd70f1b
X-WR-CALDESC:Office Closed
X-WR-RELCALID:5cde167f7c6580027ffdd4704e96bdb8
X-WR-TIMEZONE:America/New_York
BEGIN:VTIMEZONE
TZID:America/New_York
BEGIN:STANDARD
TZNAME:EST
DTSTART:20241103T020000
TZOFFSETFROM:-0400
TZOFFSETTO:-0500
RDATE:20251102T020000
END:STANDARD
BEGIN:DAYLIGHT
TZNAME:EDT
DTSTART:20240310T020000
TZOFFSETFROM:-0500
TZOFFSETTO:-0400
RDATE:20250309T020000
RDATE:20260308T020000
END:DAYLIGHT
END:VTIMEZONE
BEGIN:VEVENT
UID:6965a169-3c2b-4c22-b895-b9d91cf53f47
DTSTAMP:20260422T040449Z
DESCRIPTION:Office Closed
DTSTART;TZID=America/New_York:20250217T060000
DTEND;TZID=America/New_York:20250217T060001
LOCATION:
SUMMARY:Presidents' Day
END:VEVENT
END:VCALENDAR
