BEGIN:VCALENDAR
VERSION:2.0
PRODID:-//www.madisonsoilandwater.com//NONSGML kigkonsult.se iCalcreator 2.
 30.10//
CALSCALE:GREGORIAN
METHOD:PUBLISH
UID:aa8ceb7f-e093-4b9c-850e-59a7783e73d8
X-WR-CALDESC:Special guests\, legislators\, business leaders and more join 
 with the Ohio Federation of Soil and Water Conservation Districts to educa
 te\, celebrate and inspire conservation stewards for the future.
X-WR-RELCALID:8b085cffe71823301917c43b629df51b
X-WR-TIMEZONE:America/New_York
BEGIN:VTIMEZONE
TZID:America/New_York
BEGIN:STANDARD
TZNAME:EST
DTSTART:20241103T020000
TZOFFSETFROM:-0400
TZOFFSETTO:-0500
RDATE:20251102T020000
END:STANDARD
BEGIN:DAYLIGHT
TZNAME:EDT
DTSTART:20240310T020000
TZOFFSETFROM:-0500
TZOFFSETTO:-0400
RDATE:20250309T020000
RDATE:20260308T020000
END:DAYLIGHT
END:VTIMEZONE
BEGIN:VEVENT
UID:fb512eef-b8ec-463b-a59b-b8079af4f70e
DTSTAMP:20260422T053402Z
DESCRIPTION:Special guests\, legislators\, business leaders and more join w
 ith the Ohio Federation of Soil and Water Conservation Districts to educat
 e\, celebrate and inspire conservation stewards for the future.
DTSTART;TZID=America/New_York:20250122T060000
DTEND;TZID=America/New_York:20250123T060001
LOCATION:Hilton Columbus Downtown
SUMMARY:Annual Partnership Meeting
END:VEVENT
END:VCALENDAR
