BEGIN:VCALENDAR
VERSION:2.0
PRODID:-//www.madisonsoilandwater.com//NONSGML kigkonsult.se iCalcreator 2.
 30.10//
CALSCALE:GREGORIAN
METHOD:PUBLISH
UID:3d3e7132-9273-4349-a9ac-239ddcf99e36
X-WR-CALDESC:Office Closed
X-WR-RELCALID:5fcdefdaf9b070f30fe639a6e5c87339
X-WR-TIMEZONE:America/New_York
BEGIN:VTIMEZONE
TZID:America/New_York
BEGIN:STANDARD
TZNAME:EST
DTSTART:20241103T020000
TZOFFSETFROM:-0400
TZOFFSETTO:-0500
RDATE:20251102T020000
END:STANDARD
BEGIN:DAYLIGHT
TZNAME:EDT
DTSTART:20240310T020000
TZOFFSETFROM:-0500
TZOFFSETTO:-0400
RDATE:20250309T020000
RDATE:20260308T020000
END:DAYLIGHT
END:VTIMEZONE
BEGIN:VEVENT
UID:619adfd7-43d6-4d09-9ddc-f94a5f8b53c9
DTSTAMP:20260422T054236Z
DESCRIPTION:Office Closed
DTSTART;TZID=America/New_York:20250120T060000
DTEND;TZID=America/New_York:20250120T060001
LOCATION:
SUMMARY:Martin Luther King Jr. Day
END:VEVENT
END:VCALENDAR
