BEGIN:VCALENDAR
VERSION:2.0
PRODID:-//www.madisonsoilandwater.com//NONSGML kigkonsult.se iCalcreator 2.
 30.10//
CALSCALE:GREGORIAN
METHOD:PUBLISH
UID:b29b133e-394c-4fac-8174-6b136398f9c3
X-WR-CALDESC:The Madison County Commissioners were awarded $174\,072 from t
 he Ohio Department of Agriculture to purchase agricultural easements from 
 willing landowners who wish to preserve his or her farm in perpetuity.  An
  agricultural easement is a voluntary\, permanent\, legally binding restri
 ction placed on a farm that limits the use of the land to predominantly ag
 ricultural activity.  To apply for the Local Agricultural Easement Purchas
 e Program (LAEPP)\, contact the Madison Soil and Water Conservation Distri
 ct by calling (740) 852-4003 and make an appointment before March 21.
X-WR-RELCALID:584aaec7083f659fbd022e91de371c53
X-WR-TIMEZONE:America/New_York
BEGIN:VTIMEZONE
TZID:America/New_York
BEGIN:STANDARD
TZNAME:EST
DTSTART:20241103T020000
TZOFFSETFROM:-0400
TZOFFSETTO:-0500
RDATE:20251102T020000
END:STANDARD
BEGIN:DAYLIGHT
TZNAME:EDT
DTSTART:20240310T020000
TZOFFSETFROM:-0500
TZOFFSETTO:-0400
RDATE:20250309T020000
RDATE:20260308T020000
END:DAYLIGHT
END:VTIMEZONE
BEGIN:VEVENT
UID:fe39a1eb-0c45-4caa-b489-8521691e1635
DTSTAMP:20260422T054026Z
DESCRIPTION:The Madison County Commissioners were awarded $174\,072 from th
 e Ohio Department of Agriculture to purchase agricultural easements from w
 illing landowners who wish to preserve his or her farm in perpetuity.  An 
 agricultural easement is a voluntary\, permanent\, legally binding restric
 tion placed on a farm that limits the use of the land to predominantly agr
 icultural activity.  To apply for the Local Agricultural Easement Purchase
  Program (LAEPP)\, contact the Madison Soil and Water Conservation Distric
 t by calling (740) 852-4003 and make an appointment before March 21.
DTSTART;TZID=America/New_York:20250115T060000
DTEND;TZID=America/New_York:20250115T060001
LOCATION:Madison County
SUMMARY:LAEPP Application Period Starts
END:VEVENT
END:VCALENDAR
