BEGIN:VCALENDAR
VERSION:2.0
PRODID:-//www.madisonsoilandwater.com//NONSGML kigkonsult.se iCalcreator 2.
 30.10//
CALSCALE:GREGORIAN
METHOD:PUBLISH
UID:790b92fe-3c18-48db-ac27-4f3b0b50c1cf
X-WR-CALDESC:Office Closed
X-WR-RELCALID:859ff32f8387c934db2cc3e1ba311f7b
X-WR-TIMEZONE:America/New_York
BEGIN:VTIMEZONE
TZID:America/New_York
BEGIN:STANDARD
TZNAME:EST
DTSTART:20241103T020000
TZOFFSETFROM:-0400
TZOFFSETTO:-0500
RDATE:20251102T020000
END:STANDARD
BEGIN:DAYLIGHT
TZNAME:EDT
DTSTART:20240310T020000
TZOFFSETFROM:-0500
TZOFFSETTO:-0400
RDATE:20250309T020000
RDATE:20260308T020000
END:DAYLIGHT
END:VTIMEZONE
BEGIN:VEVENT
UID:83eef14f-0d9c-4d27-923b-38478f96a204
DTSTAMP:20260422T071413Z
DESCRIPTION:Office Closed
DTSTART;TZID=America/New_York:20241225T060000
DTEND;TZID=America/New_York:20241225T060001
LOCATION:
SUMMARY:Christmas Day
END:VEVENT
END:VCALENDAR
