BEGIN:VCALENDAR
VERSION:2.0
PRODID:-//www.madisonsoilandwater.com//NONSGML kigkonsult.se iCalcreator 2.
 30.10//
CALSCALE:GREGORIAN
METHOD:PUBLISH
UID:05f969ea-455e-4b67-a0a5-49056be3229c
X-WR-CALDESC:SWCD Monthly Board Meeting
X-WR-RELCALID:7f9740004d874362a3a9851b580e1843
X-WR-TIMEZONE:America/New_York
BEGIN:VTIMEZONE
TZID:America/New_York
BEGIN:STANDARD
TZNAME:EST
DTSTART:20241103T020000
TZOFFSETFROM:-0400
TZOFFSETTO:-0500
RDATE:20251102T020000
END:STANDARD
BEGIN:DAYLIGHT
TZNAME:EDT
DTSTART:20240310T020000
TZOFFSETFROM:-0500
TZOFFSETTO:-0400
RDATE:20250309T020000
RDATE:20260308T020000
END:DAYLIGHT
END:VTIMEZONE
BEGIN:VEVENT
UID:8d40e243-ed1a-47c0-ae5d-25bb07b08dcb
DTSTAMP:20260422T072236Z
DESCRIPTION:SWCD Monthly Board Meeting
DTSTART;TZID=America/New_York:20241211T073000
DTEND;TZID=America/New_York:20241211T093000
LOCATION:825 US Hwy 42 NE\, London\, OH 43140 US
SUMMARY:SWCD Board Meeting
END:VEVENT
END:VCALENDAR
