BEGIN:VCALENDAR
VERSION:2.0
PRODID:-//www.madisonsoilandwater.com//NONSGML kigkonsult.se iCalcreator 2.
 30.10//
CALSCALE:GREGORIAN
METHOD:PUBLISH
UID:fa7eb5ac-5af1-4f60-a10d-402377a91bf4
X-WR-CALDESC:SWCD Monthly Board Meeting
X-WR-RELCALID:8415273e294c0f60555f73c04cec2986
X-WR-TIMEZONE:America/New_York
BEGIN:VTIMEZONE
TZID:America/New_York
BEGIN:STANDARD
TZNAME:EST
DTSTART:20241103T020000
TZOFFSETFROM:-0400
TZOFFSETTO:-0500
RDATE:20251102T020000
END:STANDARD
BEGIN:DAYLIGHT
TZNAME:EDT
DTSTART:20240310T020000
TZOFFSETFROM:-0500
TZOFFSETTO:-0400
RDATE:20250309T020000
RDATE:20260308T020000
END:DAYLIGHT
END:VTIMEZONE
BEGIN:VEVENT
UID:6a8ffc40-5c9a-4526-871b-c5049e6c77d1
DTSTAMP:20260422T084838Z
DESCRIPTION:SWCD Monthly Board Meeting
DTSTART;TZID=America/New_York:20241113T073000
DTEND;TZID=America/New_York:20241113T093000
LOCATION:825 US Hwy 42 NE\, London\, OH 43140 US
SUMMARY:SWCD Board Meeting
END:VEVENT
END:VCALENDAR
