BEGIN:VCALENDAR
VERSION:2.0
PRODID:-//www.madisonsoilandwater.com//NONSGML kigkonsult.se iCalcreator 2.
 30.10//
CALSCALE:GREGORIAN
METHOD:PUBLISH
UID:1da28438-f91e-4a99-beba-74fb19f594a3
X-WR-CALDESC:
X-WR-RELCALID:ee489ed3be528aab81006e927642b03b
X-WR-TIMEZONE:America/New_York
BEGIN:VTIMEZONE
TZID:America/New_York
BEGIN:STANDARD
TZNAME:EST
DTSTART:20241103T020000
TZOFFSETFROM:-0400
TZOFFSETTO:-0500
RDATE:20251102T020000
END:STANDARD
BEGIN:DAYLIGHT
TZNAME:EDT
DTSTART:20240310T020000
TZOFFSETFROM:-0500
TZOFFSETTO:-0400
RDATE:20250309T020000
RDATE:20260308T020000
END:DAYLIGHT
END:VTIMEZONE
BEGIN:VEVENT
UID:e097c587-7e41-443a-b377-3e9665436c72
DTSTAMP:20260422T084329Z
DESCRIPTION:
DTSTART;TZID=America/New_York:20241105T120000
DTEND;TZID=America/New_York:20241105T160000
LOCATION:
SUMMARY:General Election Day
END:VEVENT
END:VCALENDAR
