BEGIN:VCALENDAR
VERSION:2.0
PRODID:-//www.madisonsoilandwater.com//NONSGML kigkonsult.se iCalcreator 2.
 30.10//
CALSCALE:GREGORIAN
METHOD:PUBLISH
UID:a871d89b-7272-4d69-88cc-6645842af4dd
X-WR-CALDESC:Office Closed
X-WR-RELCALID:6e944d5ff458af8ba332a1647ccecc85
X-WR-TIMEZONE:America/New_York
BEGIN:VTIMEZONE
TZID:America/New_York
BEGIN:STANDARD
TZNAME:EST
DTSTART:20231105T020000
TZOFFSETFROM:-0400
TZOFFSETTO:-0500
RDATE:20241103T020000
RDATE:20251102T020000
END:STANDARD
BEGIN:DAYLIGHT
TZNAME:EDT
DTSTART:20240310T020000
TZOFFSETFROM:-0500
TZOFFSETTO:-0400
RDATE:20250309T020000
RDATE:20260308T020000
END:DAYLIGHT
END:VTIMEZONE
BEGIN:VEVENT
UID:fa9a3ceb-aec0-4d58-838c-3919304c2e8c
DTSTAMP:20260422T102708Z
DESCRIPTION:Office Closed
DTSTART;TZID=America/New_York:20241014T060000
DTEND;TZID=America/New_York:20241014T060001
LOCATION:
SUMMARY:Columbus Day
END:VEVENT
END:VCALENDAR
